BEGIN:VCALENDAR
VERSION:2.0
PRODID:-//casakc.org//NONSGML kigkonsult.se iCalcreator 2.30.10//
CALSCALE:GREGORIAN
METHOD:PUBLISH
UID:c2940dc7-856a-4075-b515-09a4bacd724a
X-WR-CALDESC:Join Jackson County CASA and Honorary Chair Jeff Blaesing of J
 E Dunn for the 23rd Annual Light of Hope Breakfast Thursday\, April 20\, 2
 023\, in the Grand Ballroom of the Sheraton Crown Center.  Check-in and ne
 tworking begin at 7:00 a.m.\, the breakfast will begin promptly at 7:30 an
 d conclude by 8:30.  We will be celebrating 40 years since our founding by
  the Kansas City Chapter of the National Council of Jewish Women\, and hon
 oring our dedicated CASA Volunteers and Community Partners.  To sponsor th
 e breakfast\, please contact Lara Klover\, LKlover@jacksoncountycasa-mo.or
 g.  To reserve a table\, please click the link below.
X-WR-RELCALID:aa8b12e7d504d76de8f370b12ab519cc
X-WR-TIMEZONE:America/Chicago
BEGIN:VTIMEZONE
TZID:America/Chicago
BEGIN:STANDARD
TZNAME:CST
DTSTART:20221106T020000
TZOFFSETFROM:-0500
TZOFFSETTO:-0600
RDATE:20231105T020000
END:STANDARD
BEGIN:DAYLIGHT
TZNAME:CDT
DTSTART:20230312T020000
TZOFFSETFROM:-0600
TZOFFSETTO:-0500
RDATE:20240310T020000
END:DAYLIGHT
END:VTIMEZONE
BEGIN:VEVENT
UID:a916915f-5dd1-4840-b35d-71ef6e4deb7e
DTSTAMP:20260423T010801Z
DESCRIPTION:Join Jackson County CASA and Honorary Chair Jeff Blaesing of JE
  Dunn for the 23rd Annual Light of Hope Breakfast Thursday\, April 20\, 20
 23\, in the Grand Ballroom of the Sheraton Crown Center.  Check-in and net
 working begin at 7:00 a.m.\, the breakfast will begin promptly at 7:30 and
  conclude by 8:30.  We will be celebrating 40 years since our founding by 
 the Kansas City Chapter of the National Council of Jewish Women\, and hono
 ring our dedicated CASA Volunteers and Community Partners.  To sponsor the
  breakfast\, please contact Lara Klover\, LKlover@jacksoncountycasa-mo.org
 .  To reserve a table\, please click the link below.
DTSTART;TZID=America/Chicago:20230420T070000
DTEND;TZID=America/Chicago:20230420T083000
LOCATION:Sheraton Crown Center Grand Ballroom
SUMMARY:23rd Annual Light of Hope Breakfast
END:VEVENT
END:VCALENDAR
