BEGIN:VCALENDAR
VERSION:2.0
PRODID:-//casakc.org//NONSGML kigkonsult.se iCalcreator 2.30.10//
CALSCALE:GREGORIAN
METHOD:PUBLISH
UID:81137fca-cff3-40fa-9f76-727948c5a5d7
X-WR-CALDESC:
X-WR-RELCALID:96db52c7af2a47e8a52c0178ea8fc0ce
X-WR-TIMEZONE:America/Chicago
BEGIN:VTIMEZONE
TZID:America/Chicago
BEGIN:STANDARD
TZNAME:CST
DTSTART:20221106T020000
TZOFFSETFROM:-0500
TZOFFSETTO:-0600
RDATE:20231105T020000
END:STANDARD
BEGIN:DAYLIGHT
TZNAME:CDT
DTSTART:20230312T020000
TZOFFSETFROM:-0600
TZOFFSETTO:-0500
RDATE:20240310T020000
END:DAYLIGHT
END:VTIMEZONE
BEGIN:VEVENT
UID:1019d1a4-0cf4-494c-b189-235786e29bea
DTSTAMP:20260423T011514Z
DESCRIPTION:
DTSTART;TZID=America/Chicago:20230428T120000
DTEND;TZID=America/Chicago:20230428T130000
LOCATION:
SUMMARY:Board Meeting
END:VEVENT
END:VCALENDAR
