BEGIN:VCALENDAR
VERSION:2.0
PRODID:-//casakc.org//NONSGML kigkonsult.se iCalcreator 2.30.10//
CALSCALE:GREGORIAN
METHOD:PUBLISH
UID:e35dbf92-0014-4c43-b5b1-2122d1acf1cd
X-WR-CALDESC:
X-WR-RELCALID:e70c8bad4b260c2a69acd09699f37573
X-WR-TIMEZONE:America/Chicago
BEGIN:VTIMEZONE
TZID:America/Chicago
BEGIN:STANDARD
TZNAME:CST
DTSTART:20221106T020000
TZOFFSETFROM:-0500
TZOFFSETTO:-0600
RDATE:20231105T020000
END:STANDARD
BEGIN:DAYLIGHT
TZNAME:CDT
DTSTART:20230312T020000
TZOFFSETFROM:-0600
TZOFFSETTO:-0500
RDATE:20240310T020000
END:DAYLIGHT
END:VTIMEZONE
BEGIN:VEVENT
UID:a2e38048-c34b-4f13-9e63-335522983c5d
DTSTAMP:20260422T233149Z
DESCRIPTION:
DTSTART;TZID=America/Chicago:20230503T173000
DTEND;TZID=America/Chicago:20230503T190000
LOCATION:2544 Holmes\, Kansas City\, MO 64108 US
SUMMARY:Continuing Education: IEP and 504 Plans
END:VEVENT
END:VCALENDAR
