BEGIN:VCALENDAR
VERSION:2.0
PRODID:-//casakc.org//NONSGML kigkonsult.se iCalcreator 2.30.10//
CALSCALE:GREGORIAN
METHOD:PUBLISH
UID:0801801f-6512-4cc8-8e6a-09a6678b23a2
X-WR-CALDESC:Join the Racial Equity Collaborative for a community forum wit
 h special guest Associate Commissioner Aysha E. Schomburg of the United St
 ates Children’s Bureau on Wednesday\, May 3rd\, 2023 from 9-2 p.m.\n \nThe
  day will involve thoughtful discussions\, presentations\, and a facilitat
 ed discussion on the confusion of neglect and poverty\, the progress of ki
 nship care in the state of Kansas\, and how to make meaningful change.\n
X-WR-RELCALID:194f6270829017a0598d7ace784ea3be
X-WR-TIMEZONE:America/Chicago
BEGIN:VTIMEZONE
TZID:America/Chicago
BEGIN:STANDARD
TZNAME:CST
DTSTART:20221106T020000
TZOFFSETFROM:-0500
TZOFFSETTO:-0600
RDATE:20231105T020000
END:STANDARD
BEGIN:DAYLIGHT
TZNAME:CDT
DTSTART:20230312T020000
TZOFFSETFROM:-0600
TZOFFSETTO:-0500
RDATE:20240310T020000
END:DAYLIGHT
END:VTIMEZONE
BEGIN:VEVENT
UID:2abe8341-6bce-4797-8e36-af374de0a13f
DTSTAMP:20260422T175921Z
DESCRIPTION:Join the Racial Equity Collaborative for a community forum with
  special guest Associate Commissioner Aysha E. Schomburg of the United Sta
 tes Children’s Bureau on Wednesday\, May 3rd\, 2023 from 9-2 p.m.\n \nThe 
 day will involve thoughtful discussions\, presentations\, and a facilitate
 d discussion on the confusion of neglect and poverty\, the progress of kin
 ship care in the state of Kansas\, and how to make meaningful change.\n
DTSTART;TZID=America/Chicago:20230503T090000
DTEND;TZID=America/Chicago:20230503T140000
LOCATION:
SUMMARY:Pursuing Racial Equity in Kansas Child Welfare:  A Collaborative Ef
 fort
END:VEVENT
END:VCALENDAR
