BEGIN:VCALENDAR
VERSION:2.0
PRODID:-//casakc.org//NONSGML kigkonsult.se iCalcreator 2.30.10//
CALSCALE:GREGORIAN
METHOD:PUBLISH
UID:0ca35bcd-59f2-4b1d-a650-47125abec0de
X-WR-CALDESC:
X-WR-RELCALID:40afc1699c5b382fb0a9a7449a018150
X-WR-TIMEZONE:America/Chicago
BEGIN:VTIMEZONE
TZID:America/Chicago
BEGIN:STANDARD
TZNAME:CST
DTSTART:20221106T020000
TZOFFSETFROM:-0500
TZOFFSETTO:-0600
RDATE:20231105T020000
RDATE:20241103T020000
END:STANDARD
BEGIN:DAYLIGHT
TZNAME:CDT
DTSTART:20230312T020000
TZOFFSETFROM:-0600
TZOFFSETTO:-0500
RDATE:20240310T020000
END:DAYLIGHT
END:VTIMEZONE
BEGIN:VEVENT
UID:d7bc76a0-2528-4213-aaae-7eeaab0c7b0c
DTSTAMP:20260422T233313Z
DESCRIPTION:
DTSTART;TZID=America/Chicago:20230526T120000
DTEND;TZID=America/Chicago:20230526T130000
LOCATION:
SUMMARY:Board Meeting
END:VEVENT
END:VCALENDAR
