BEGIN:VCALENDAR
VERSION:2.0
PRODID:-//casakc.org//NONSGML kigkonsult.se iCalcreator 2.30.10//
CALSCALE:GREGORIAN
METHOD:PUBLISH
UID:fdde2221-b5ee-4f0b-8aed-77fd63c1784b
X-WR-CALDESC:Join us for a 30-minute online no-obligation information sessi
 on on what it means to be a CASA volunteer. Attending an information sessi
 on is a prerequisite for attending CASA Volunteer Training.\n\nTo register
  for this info session\, email Volunteer Specialist Kara Strickler at kstr
 ickler@jacksoncountycasa-mo.org or click the Register Now button above.
X-WR-RELCALID:1f937f50658799ca06ec9105ff0e3717
X-WR-TIMEZONE:America/Chicago
BEGIN:VTIMEZONE
TZID:America/Chicago
BEGIN:STANDARD
TZNAME:CST
DTSTART:20221106T020000
TZOFFSETFROM:-0500
TZOFFSETTO:-0600
RDATE:20231105T020000
RDATE:20241103T020000
END:STANDARD
BEGIN:DAYLIGHT
TZNAME:CDT
DTSTART:20230312T020000
TZOFFSETFROM:-0600
TZOFFSETTO:-0500
RDATE:20240310T020000
END:DAYLIGHT
END:VTIMEZONE
BEGIN:VEVENT
UID:c7a1c42f-a62a-48d5-8ccd-38a6d6025f0d
DTSTAMP:20260422T214707Z
DESCRIPTION:Join us for a 30-minute online no-obligation information sessio
 n on what it means to be a CASA volunteer. Attending an information sessio
 n is a prerequisite for attending CASA Volunteer Training.\n\nTo register 
 for this info session\, email Volunteer Specialist Kara Strickler at kstri
 ckler@jacksoncountycasa-mo.org or click the Register Now button above.
DTSTART;TZID=America/Chicago:20230601T120000
DTEND;TZID=America/Chicago:20230601T123000
LOCATION:Info sessions are conducted via Zoom. Please register to receive t
 he Zoom link.
SUMMARY:Virtual Volunteer Info Session
END:VEVENT
END:VCALENDAR
