BEGIN:VCALENDAR
VERSION:2.0
PRODID:-//casakc.org//NONSGML kigkonsult.se iCalcreator 2.30.10//
CALSCALE:GREGORIAN
METHOD:PUBLISH
UID:ba2a0079-fe6b-4b60-a36a-bcc536e4014a
X-WR-CALDESC:Come see us at Jackson County CASA's table at KC PrideFest! CA
 SA Volunteers can sign up to help staff our table throughout the weekend. 
 Please email Volunteer Program Specialist Kara Strickler at kstrickler@jac
 ksoncountycasa-mo.org if you'd like to help.
X-WR-RELCALID:4e6a4b103007cd5f8d0b38976d40cb66
X-WR-TIMEZONE:America/Chicago
BEGIN:VTIMEZONE
TZID:America/Chicago
BEGIN:STANDARD
TZNAME:CST
DTSTART:20221106T020000
TZOFFSETFROM:-0500
TZOFFSETTO:-0600
RDATE:20231105T020000
RDATE:20241103T020000
END:STANDARD
BEGIN:DAYLIGHT
TZNAME:CDT
DTSTART:20230312T020000
TZOFFSETFROM:-0600
TZOFFSETTO:-0500
RDATE:20240310T020000
END:DAYLIGHT
END:VTIMEZONE
BEGIN:VEVENT
UID:35c0619b-facf-4f38-a868-b924a24a516b
DTSTAMP:20260422T215814Z
DESCRIPTION:Come see us at Jackson County CASA's table at KC PrideFest! CAS
 A Volunteers can sign up to help staff our table throughout the weekend. P
 lease email Volunteer Program Specialist Kara Strickler at kstrickler@jack
 soncountycasa-mo.org if you'd like to help.
DTSTART;TZID=America/Chicago:20230611T110000
DTEND;TZID=America/Chicago:20230611T170000
LOCATION:Theis Park
SUMMARY:KC PrideFest
END:VEVENT
END:VCALENDAR
