BEGIN:VCALENDAR
VERSION:2.0
PRODID:-//casakc.org//NONSGML kigkonsult.se iCalcreator 2.30.10//
CALSCALE:GREGORIAN
METHOD:PUBLISH
UID:270537cf-ecd8-439c-af34-1498c4674014
X-WR-CALDESC:12:00 noon 'Child Safety Decision-Making' \n\n1:30-2:20pm “How
  to Participate in Mediation as a GAL/CASA” – Kelle Gilmore\, JD\nKelle is
  a family law attorney who regularly serves as a mediator in family law di
 sputes regarding custody. Kelle also represents parents in Family Court an
 d serves as Guardian ad Litem. She will be discussing how to best particip
 ate in mediation as a Guardian ad Litem/CASA which will include an overvie
 w of how mediation can be different based on the permanency plan and what 
 kinds of mediation agreements we can expect. \n\n2:30-4:10pm “Understandin
 g and Representing Youth with Problematic Sexual Behaviors” – Rene McCrear
 y\, Ed.S.\, LPC\nRene has worked as a therapist for over 30 years and is w
 ell known in the Kansas City community for her work with individuals with 
 PTSD\, mood dysregulation\, and anxiety disorders. She worked as the Direc
 tor of Clinical Services for MOCSA for over 10 years and now provides clin
 ical supervision towards licensure for Professional Counselors and Marriag
 e and Family Therapists. She consults with agency leaders to enhance their
  counseling programs and provides training on working with youth with prob
 lematic sexual behaviors in the community. \n\n\n\n
X-WR-RELCALID:9a1793848d596c79b47a3a8623143e83
X-WR-TIMEZONE:America/Chicago
BEGIN:VTIMEZONE
TZID:America/Chicago
BEGIN:STANDARD
TZNAME:CST
DTSTART:20221106T020000
TZOFFSETFROM:-0500
TZOFFSETTO:-0600
RDATE:20231105T020000
RDATE:20241103T020000
END:STANDARD
BEGIN:DAYLIGHT
TZNAME:CDT
DTSTART:20230312T020000
TZOFFSETFROM:-0600
TZOFFSETTO:-0500
RDATE:20240310T020000
END:DAYLIGHT
END:VTIMEZONE
BEGIN:VEVENT
UID:0ac150a5-2f98-4f41-ad69-72fd64357f5f
DTSTAMP:20260422T215825Z
DESCRIPTION:12:00 noon 'Child Safety Decision-Making' \n\n1:30-2:20pm “How 
 to Participate in Mediation as a GAL/CASA” – Kelle Gilmore\, JD\nKelle is 
 a family law attorney who regularly serves as a mediator in family law dis
 putes regarding custody. Kelle also represents parents in Family Court and
  serves as Guardian ad Litem. She will be discussing how to best participa
 te in mediation as a Guardian ad Litem/CASA which will include an overview
  of how mediation can be different based on the permanency plan and what k
 inds of mediation agreements we can expect. \n\n2:30-4:10pm “Understanding
  and Representing Youth with Problematic Sexual Behaviors” – Rene McCreary
 \, Ed.S.\, LPC\nRene has worked as a therapist for over 30 years and is we
 ll known in the Kansas City community for her work with individuals with P
 TSD\, mood dysregulation\, and anxiety disorders. She worked as the Direct
 or of Clinical Services for MOCSA for over 10 years and now provides clini
 cal supervision towards licensure for Professional Counselors and Marriage
  and Family Therapists. She consults with agency leaders to enhance their 
 counseling programs and provides training on working with youth with probl
 ematic sexual behaviors in the community. \n\n\n\n
DTSTART;TZID=America/Chicago:20230615T000000
DTEND;TZID=America/Chicago:20230615T235900
LOCATION:This training will be held at CASA\, 2544 Holmes St\, KCMO with a 
 simultaneous online option.
SUMMARY:GAL CLE
END:VEVENT
END:VCALENDAR
