BEGIN:VCALENDAR
VERSION:2.0
PRODID:-//casakc.org//NONSGML kigkonsult.se iCalcreator 2.30.10//
CALSCALE:GREGORIAN
METHOD:PUBLISH
UID:849d9a84-111c-42b4-b8b1-80b01f68850d
X-WR-CALDESC:Join us for a 30-minute online no-obligation information sessi
 on on what it means to be a CASA volunteer. Attending an information sessi
 on is a prerequisite for attending CASA Volunteer Training.\n\nTo register
  for this info session\, email Volunteer Specialist Kara Strickler at kstr
 ickler@jacksoncountycasa-mo.org or click the Register Now button above.
X-WR-RELCALID:a9ebcc15ee6b12ccad4ebaf0c02cb551
X-WR-TIMEZONE:America/Chicago
BEGIN:VTIMEZONE
TZID:America/Chicago
BEGIN:STANDARD
TZNAME:CST
DTSTART:20221106T020000
TZOFFSETFROM:-0500
TZOFFSETTO:-0600
RDATE:20231105T020000
RDATE:20241103T020000
END:STANDARD
BEGIN:DAYLIGHT
TZNAME:CDT
DTSTART:20230312T020000
TZOFFSETFROM:-0600
TZOFFSETTO:-0500
RDATE:20240310T020000
END:DAYLIGHT
END:VTIMEZONE
BEGIN:VEVENT
UID:c7e37664-84e8-4b23-827f-94fe12db8e2f
DTSTAMP:20260422T215847Z
DESCRIPTION:Join us for a 30-minute online no-obligation information sessio
 n on what it means to be a CASA volunteer. Attending an information sessio
 n is a prerequisite for attending CASA Volunteer Training.\n\nTo register 
 for this info session\, email Volunteer Specialist Kara Strickler at kstri
 ckler@jacksoncountycasa-mo.org or click the Register Now button above.
DTSTART;TZID=America/Chicago:20230616T120000
DTEND;TZID=America/Chicago:20230616T123000
LOCATION:Info sessions are conducted via Zoom. Please register to receive t
 he Zoom link.
SUMMARY:Virtual Volunteer Info Session
END:VEVENT
END:VCALENDAR
