BEGIN:VCALENDAR
VERSION:2.0
PRODID:-//casakc.org//NONSGML kigkonsult.se iCalcreator 2.30.10//
CALSCALE:GREGORIAN
METHOD:PUBLISH
UID:ec1c024c-5351-4441-918a-587854a89705
X-WR-CALDESC:Save the date for CASA 101! During this hour you’ll learn more
  about Jackson County CASA\, including info on our special events\, fundin
 g sources\, emergency assistance and enrichment resources for CASA childre
 n\, and more. This training is open to all CASA Volunteers\, but is especi
 ally great for new volunteers.
X-WR-RELCALID:e5302c86a6cf79c5336c694cedf40b52
X-WR-TIMEZONE:America/Chicago
BEGIN:VTIMEZONE
TZID:America/Chicago
BEGIN:STANDARD
TZNAME:CST
DTSTART:20221106T020000
TZOFFSETFROM:-0500
TZOFFSETTO:-0600
RDATE:20231105T020000
RDATE:20241103T020000
END:STANDARD
BEGIN:DAYLIGHT
TZNAME:CDT
DTSTART:20230312T020000
TZOFFSETFROM:-0600
TZOFFSETTO:-0500
RDATE:20240310T020000
END:DAYLIGHT
END:VTIMEZONE
BEGIN:VEVENT
UID:b5a6d4a3-3a6d-4fb9-952c-c5113a281cda
DTSTAMP:20260422T214851Z
DESCRIPTION:Save the date for CASA 101! During this hour you’ll learn more 
 about Jackson County CASA\, including info on our special events\, funding
  sources\, emergency assistance and enrichment resources for CASA children
 \, and more. This training is open to all CASA Volunteers\, but is especia
 lly great for new volunteers.
DTSTART;TZID=America/Chicago:20230622T120000
DTEND;TZID=America/Chicago:20230622T130000
LOCATION:
SUMMARY:CASA 101
END:VEVENT
END:VCALENDAR
