BEGIN:VCALENDAR
VERSION:2.0
PRODID:-//casakc.org//NONSGML kigkonsult.se iCalcreator 2.30.10//
CALSCALE:GREGORIAN
METHOD:PUBLISH
UID:220e3266-7ec2-4238-bfd8-fddc680fd8db
X-WR-CALDESC:All CASA Volunteers must complete Volunteer Training prior to 
 being assigned to a case. To learn about the role and requirements of bein
 g a CASA Volunteer and to sign up to attend an Info Session\, which is a p
 rerequisite to Volunteer Training\, visit https://www.jacksoncountycasa-mo
 .org/volunteer/.
X-WR-RELCALID:c1680b0ea371c30a5600d6d25678c22d
X-WR-TIMEZONE:America/Chicago
BEGIN:VTIMEZONE
TZID:America/Chicago
BEGIN:STANDARD
TZNAME:CST
DTSTART:20221106T020000
TZOFFSETFROM:-0500
TZOFFSETTO:-0600
RDATE:20231105T020000
RDATE:20241103T020000
END:STANDARD
BEGIN:DAYLIGHT
TZNAME:CDT
DTSTART:20230312T020000
TZOFFSETFROM:-0600
TZOFFSETTO:-0500
RDATE:20240310T020000
END:DAYLIGHT
END:VTIMEZONE
BEGIN:VEVENT
UID:cd40a6b3-3bd5-4dbd-a465-84fdb7d67d1f
DTSTAMP:20260422T203516Z
DESCRIPTION:All CASA Volunteers must complete Volunteer Training prior to b
 eing assigned to a case. To learn about the role and requirements of being
  a CASA Volunteer and to sign up to attend an Info Session\, which is a pr
 erequisite to Volunteer Training\, visit https://www.jacksoncountycasa-mo.
 org/volunteer/.
DTSTART;TZID=America/Chicago:20230710T170000
DTEND;TZID=America/Chicago:20230710T200000
LOCATION:
SUMMARY:Volunteer Training
END:VEVENT
END:VCALENDAR
