BEGIN:VCALENDAR
VERSION:2.0
PRODID:-//casakc.org//NONSGML kigkonsult.se iCalcreator 2.30.10//
CALSCALE:GREGORIAN
METHOD:PUBLISH
UID:613de7e9-d665-433d-8397-3092365c2e37
X-WR-CALDESC:Join us for a 30-minute online no-obligation information sessi
 on on what it means to be a CASA volunteer. Attending an information sessi
 on is a prerequisite for attending CASA Volunteer Training.\n\nTo register
  for this info session\, email Volunteer Program Specialist Kara Strickler
  at kstrickler@jacksoncountycasa-mo.org or click the Register Now button a
 bove.
X-WR-RELCALID:476f7f4c4c7d4a49b7ccee923b456bac
X-WR-TIMEZONE:America/Chicago
BEGIN:VTIMEZONE
TZID:America/Chicago
BEGIN:STANDARD
TZNAME:CST
DTSTART:20221106T020000
TZOFFSETFROM:-0500
TZOFFSETTO:-0600
RDATE:20231105T020000
RDATE:20241103T020000
END:STANDARD
BEGIN:DAYLIGHT
TZNAME:CDT
DTSTART:20230312T020000
TZOFFSETFROM:-0600
TZOFFSETTO:-0500
RDATE:20240310T020000
END:DAYLIGHT
END:VTIMEZONE
BEGIN:VEVENT
UID:e66225e0-0896-4300-baff-f99b3d5a45a0
DTSTAMP:20260422T203826Z
DESCRIPTION:Join us for a 30-minute online no-obligation information sessio
 n on what it means to be a CASA volunteer. Attending an information sessio
 n is a prerequisite for attending CASA Volunteer Training.\n\nTo register 
 for this info session\, email Volunteer Program Specialist Kara Strickler 
 at kstrickler@jacksoncountycasa-mo.org or click the Register Now button ab
 ove.
DTSTART;TZID=America/Chicago:20230721T120000
DTEND;TZID=America/Chicago:20230721T123000
LOCATION:Info sessions are conducted via Zoom. Please register to receive t
 he Zoom link.
SUMMARY:Virtual Volunteer Info Session
END:VEVENT
END:VCALENDAR
