BEGIN:VCALENDAR
VERSION:2.0
PRODID:-//casakc.org//NONSGML kigkonsult.se iCalcreator 2.30.10//
CALSCALE:GREGORIAN
METHOD:PUBLISH
UID:9daecb6c-e4cc-4351-8e6e-d45b003b08d8
X-WR-CALDESC:All CASA Volunteers must complete Volunteer Training prior to 
 being assigned to a case. To learn about the role and requirements of bein
 g a CASA Volunteer and to sign up to attend an Info Session\, which is a p
 rerequisite to Volunteer Training\, visit https://www.jacksoncountycasa-mo
 .org/volunteer/.
X-WR-RELCALID:7b67cc7f230f4e44a668695f12d7e80f
X-WR-TIMEZONE:America/Chicago
BEGIN:VTIMEZONE
TZID:America/Chicago
BEGIN:STANDARD
TZNAME:CST
DTSTART:20221106T020000
TZOFFSETFROM:-0500
TZOFFSETTO:-0600
RDATE:20231105T020000
RDATE:20241103T020000
END:STANDARD
BEGIN:DAYLIGHT
TZNAME:CDT
DTSTART:20230312T020000
TZOFFSETFROM:-0600
TZOFFSETTO:-0500
RDATE:20240310T020000
END:DAYLIGHT
END:VTIMEZONE
BEGIN:VEVENT
UID:598ba9c3-e5eb-4644-b46c-f346a6f9d062
DTSTAMP:20260422T203542Z
DESCRIPTION:All CASA Volunteers must complete Volunteer Training prior to b
 eing assigned to a case. To learn about the role and requirements of being
  a CASA Volunteer and to sign up to attend an Info Session\, which is a pr
 erequisite to Volunteer Training\, visit https://www.jacksoncountycasa-mo.
 org/volunteer/.
DTSTART;TZID=America/Chicago:20230724T170000
DTEND;TZID=America/Chicago:20230724T200000
LOCATION:
SUMMARY:Volunteer Training
END:VEVENT
END:VCALENDAR
