BEGIN:VCALENDAR
VERSION:2.0
PRODID:-//casakc.org//NONSGML kigkonsult.se iCalcreator 2.30.10//
CALSCALE:GREGORIAN
METHOD:PUBLISH
UID:d564f454-0c2e-48aa-acae-d62d31309d10
X-WR-CALDESC:Save the date on your calendar for a wild night of Charity Bin
 go at Hamburger Mary's! This is BINGO for adults\, so leave the kids with 
 a sitter and arrive early (we recommend 6-6:30 p.m.) so you can enjoy some
  Macho Nachos with an adult beverage before the festivities begin. Make yo
 ur reservation in advance by calling (816) 842-1919 or reserve online so t
 hat your whole party can sit together. Bring cash for your Bingo cards - $
 10 gets you 10 rounds of Bingo - and cash for 50/50 raffle tickets to win 
 fabulous prizes! All the money raised from the sale of Bingo cards directl
 y supports CASA's mission of advocating for children in foster care.
X-WR-RELCALID:4ec41e23e4a82e99b920371cd04bc1e7
X-WR-TIMEZONE:America/Chicago
BEGIN:VTIMEZONE
TZID:America/Chicago
BEGIN:STANDARD
TZNAME:CST
DTSTART:20221106T020000
TZOFFSETFROM:-0500
TZOFFSETTO:-0600
RDATE:20231105T020000
RDATE:20241103T020000
END:STANDARD
BEGIN:DAYLIGHT
TZNAME:CDT
DTSTART:20230312T020000
TZOFFSETFROM:-0600
TZOFFSETTO:-0500
RDATE:20240310T020000
RDATE:20250309T020000
END:DAYLIGHT
END:VTIMEZONE
BEGIN:VEVENT
UID:8a0dec3a-fbab-477a-8111-a5c33baf0254
DTSTAMP:20260421T152326Z
DESCRIPTION:Save the date on your calendar for a wild night of Charity Bing
 o at Hamburger Mary's! This is BINGO for adults\, so leave the kids with a
  sitter and arrive early (we recommend 6-6:30 p.m.) so you can enjoy some 
 Macho Nachos with an adult beverage before the festivities begin. Make you
 r reservation in advance by calling (816) 842-1919 or reserve online so th
 at your whole party can sit together. Bring cash for your Bingo cards - $1
 0 gets you 10 rounds of Bingo - and cash for 50/50 raffle tickets to win f
 abulous prizes! All the money raised from the sale of Bingo cards directly
  supports CASA's mission of advocating for children in foster care.
DTSTART;TZID=America/Chicago:20231101T190000
DTEND;TZID=America/Chicago:20231101T210000
LOCATION:3700 Broadway Blvd\, Kansas City\, MO 64111 US
SUMMARY:Hamburger Mary's Charity Bingo for CASA
END:VEVENT
END:VCALENDAR
