BEGIN:VCALENDAR
VERSION:2.0
PRODID:-//casakc.org//NONSGML kigkonsult.se iCalcreator 2.30.10//
CALSCALE:GREGORIAN
METHOD:PUBLISH
UID:04389a34-e8c9-44eb-8a5d-d0339e1ae563
X-WR-CALDESC:
X-WR-RELCALID:e727c6fd6311b277688a5ebdc73f6a44
X-WR-TIMEZONE:America/Chicago
BEGIN:VTIMEZONE
TZID:America/Chicago
BEGIN:STANDARD
TZNAME:CST
DTSTART:20231105T020000
TZOFFSETFROM:-0500
TZOFFSETTO:-0600
RDATE:20241103T020000
END:STANDARD
BEGIN:DAYLIGHT
TZNAME:CDT
DTSTART:20230312T020000
TZOFFSETFROM:-0600
TZOFFSETTO:-0500
RDATE:20240310T020000
RDATE:20250309T020000
END:DAYLIGHT
END:VTIMEZONE
BEGIN:VEVENT
UID:b86c4c6f-cc94-4668-9796-1c2eaa466ebc
DTSTAMP:20260422T141409Z
DESCRIPTION:
DTSTART;TZID=America/Chicago:20231124T120000
DTEND;TZID=America/Chicago:20231124T130000
LOCATION:
SUMMARY:Board Meeting
END:VEVENT
END:VCALENDAR
