BEGIN:VCALENDAR
VERSION:2.0
PRODID:-//casakc.org//NONSGML kigkonsult.se iCalcreator 2.30.10//
CALSCALE:GREGORIAN
METHOD:PUBLISH
UID:cecee0df-e8c7-4020-9624-4276d90b0d70
X-WR-CALDESC:
X-WR-RELCALID:4ce91e5c860da0503a1222e8dbbd6a47
X-WR-TIMEZONE:America/Chicago
BEGIN:VTIMEZONE
TZID:America/Chicago
BEGIN:STANDARD
TZNAME:CST
DTSTART:20231105T020000
TZOFFSETFROM:-0500
TZOFFSETTO:-0600
RDATE:20241103T020000
END:STANDARD
BEGIN:DAYLIGHT
TZNAME:CDT
DTSTART:20230312T020000
TZOFFSETFROM:-0600
TZOFFSETTO:-0500
RDATE:20240310T020000
RDATE:20250309T020000
END:DAYLIGHT
END:VTIMEZONE
BEGIN:VEVENT
UID:6167499f-f644-435c-b65b-33e5476e7f0f
DTSTAMP:20260422T123124Z
DESCRIPTION:
DTSTART;TZID=America/Chicago:20231206T170000
DTEND;TZID=America/Chicago:20231206T190000
LOCATION:
SUMMARY:CASA Volunteer Holiday Party
END:VEVENT
END:VCALENDAR
