BEGIN:VCALENDAR
VERSION:2.0
PRODID:-//casakc.org//NONSGML kigkonsult.se iCalcreator 2.30.10//
CALSCALE:GREGORIAN
METHOD:PUBLISH
UID:945bec2b-3761-416a-b16a-2ae242339e1d
X-WR-CALDESC:
X-WR-RELCALID:08d9a7615f9310f06a963e887c965666
X-WR-TIMEZONE:America/Chicago
BEGIN:VTIMEZONE
TZID:America/Chicago
BEGIN:STANDARD
TZNAME:CST
DTSTART:20231105T020000
TZOFFSETFROM:-0500
TZOFFSETTO:-0600
RDATE:20241103T020000
END:STANDARD
BEGIN:DAYLIGHT
TZNAME:CDT
DTSTART:20230312T020000
TZOFFSETFROM:-0600
TZOFFSETTO:-0500
RDATE:20240310T020000
RDATE:20250309T020000
END:DAYLIGHT
END:VTIMEZONE
BEGIN:VEVENT
UID:3fb0fc7a-747c-4980-a270-bc877adc9aad
DTSTAMP:20260422T104907Z
DESCRIPTION:
DTSTART;TZID=America/Chicago:20240126T120000
DTEND;TZID=America/Chicago:20240126T130000
LOCATION:
SUMMARY:Board Meeting
END:VEVENT
END:VCALENDAR
