BEGIN:VCALENDAR
VERSION:2.0
PRODID:-//casakc.org//NONSGML kigkonsult.se iCalcreator 2.30.10//
CALSCALE:GREGORIAN
METHOD:PUBLISH
UID:592e129f-1c6c-4aad-b470-5cd128ddfa77
X-WR-CALDESC:All CASA Volunteer must complete Volunteer Training prior to b
 eing assigned to a case. To learn about the role and requirements of being
  a CASA Volunteer and to sign up for an Info Session or Interview\, which 
 is a prerequisite to Volunteer Training\, visit https://www.jacksoncountyc
 asa-mo.org/volunteer/.
X-WR-RELCALID:247bcd823f1f09c1c518b0e50156c852
X-WR-TIMEZONE:America/Chicago
BEGIN:VTIMEZONE
TZID:America/Chicago
BEGIN:STANDARD
TZNAME:CST
DTSTART:20231105T020000
TZOFFSETFROM:-0500
TZOFFSETTO:-0600
RDATE:20241103T020000
END:STANDARD
BEGIN:DAYLIGHT
TZNAME:CDT
DTSTART:20230312T020000
TZOFFSETFROM:-0600
TZOFFSETTO:-0500
RDATE:20240310T020000
RDATE:20250309T020000
END:DAYLIGHT
END:VTIMEZONE
BEGIN:VEVENT
UID:bd98a6e6-b4e8-46f9-a15d-d6e0f624c28d
DTSTAMP:20260420T125008Z
DESCRIPTION:All CASA Volunteer must complete Volunteer Training prior to be
 ing assigned to a case. To learn about the role and requirements of being 
 a CASA Volunteer and to sign up for an Info Session or Interview\, which i
 s a prerequisite to Volunteer Training\, visit https://www.jacksoncountyca
 sa-mo.org/volunteer/.
DTSTART;TZID=America/Chicago:20240223T170000
DTEND;TZID=America/Chicago:20240223T200000
LOCATION:2544 Holmes\, Kansas City\, MO 64108 US
SUMMARY:Volunteer Training Boot Camp
END:VEVENT
END:VCALENDAR
