BEGIN:VCALENDAR
VERSION:2.0
PRODID:-//casakc.org//NONSGML kigkonsult.se iCalcreator 2.30.10//
CALSCALE:GREGORIAN
METHOD:PUBLISH
UID:b2c730b3-075a-4a32-8d0d-7060274834fc
X-WR-CALDESC:All CASA Volunteer must complete Volunteer Training prior to b
 eing assigned to a case. To learn about the role and requirements of being
  a CASA Volunteer and to sign up for an Info Session or Interview\, which 
 is a prerequisite to Volunteer Training\, visit https://www.jacksoncountyc
 asa-mo.org/volunteer/.
X-WR-RELCALID:bac51ac8d1db4b985148abfde5758666
X-WR-TIMEZONE:America/Chicago
BEGIN:VTIMEZONE
TZID:America/Chicago
BEGIN:STANDARD
TZNAME:CST
DTSTART:20231105T020000
TZOFFSETFROM:-0500
TZOFFSETTO:-0600
RDATE:20241103T020000
END:STANDARD
BEGIN:DAYLIGHT
TZNAME:CDT
DTSTART:20230312T020000
TZOFFSETFROM:-0600
TZOFFSETTO:-0500
RDATE:20240310T020000
RDATE:20250309T020000
END:DAYLIGHT
END:VTIMEZONE
BEGIN:VEVENT
UID:ed22d869-e0f2-403f-81aa-c5c43d139e3b
DTSTAMP:20260422T090802Z
DESCRIPTION:All CASA Volunteer must complete Volunteer Training prior to be
 ing assigned to a case. To learn about the role and requirements of being 
 a CASA Volunteer and to sign up for an Info Session or Interview\, which i
 s a prerequisite to Volunteer Training\, visit https://www.jacksoncountyca
 sa-mo.org/volunteer/.
DTSTART;TZID=America/Chicago:20240224T090000
DTEND;TZID=America/Chicago:20240224T170000
LOCATION:2544 Holmes\, Kansas City\, MO 64108 US
SUMMARY:Volunteer Training Boot Camp
END:VEVENT
END:VCALENDAR
