BEGIN:VCALENDAR
VERSION:2.0
PRODID:-//casakc.org//NONSGML kigkonsult.se iCalcreator 2.30.10//
CALSCALE:GREGORIAN
METHOD:PUBLISH
UID:f615c19d-9747-449f-a4c2-b57de1a36cbd
X-WR-CALDESC:Nuts & Bolts trainings are a great way to learn more about top
 ics that might be relevant to your CASA case directly from staff. This Nut
 s & Bolts training will focus on foster placements. CASA Advocate Supervis
 ors Westy Gilbert and Elisabeth Lee will share information about the diffe
 rent levels of foster care\, working with foster parents\, and more.
X-WR-RELCALID:9481252dbc177b7e0dd8e1316cfa6ea1
X-WR-TIMEZONE:America/Chicago
BEGIN:VTIMEZONE
TZID:America/Chicago
BEGIN:STANDARD
TZNAME:CST
DTSTART:20231105T020000
TZOFFSETFROM:-0500
TZOFFSETTO:-0600
RDATE:20241103T020000
END:STANDARD
BEGIN:DAYLIGHT
TZNAME:CDT
DTSTART:20230312T020000
TZOFFSETFROM:-0600
TZOFFSETTO:-0500
RDATE:20240310T020000
RDATE:20250309T020000
END:DAYLIGHT
END:VTIMEZONE
BEGIN:VEVENT
UID:4a3927fc-191f-47f6-9089-419364409c4b
DTSTAMP:20260422T090506Z
DESCRIPTION:Nuts & Bolts trainings are a great way to learn more about topi
 cs that might be relevant to your CASA case directly from staff. This Nuts
  & Bolts training will focus on foster placements. CASA Advocate Superviso
 rs Westy Gilbert and Elisabeth Lee will share information about the differ
 ent levels of foster care\, working with foster parents\, and more.
DTSTART;TZID=America/Chicago:20240227T173000
DTEND;TZID=America/Chicago:20240227T190000
LOCATION:2544 Holmes\, Kansas City\, MO 64108 US
SUMMARY:Nuts & Bolts Training
END:VEVENT
END:VCALENDAR
