BEGIN:VCALENDAR
VERSION:2.0
PRODID:-//casakc.org//NONSGML kigkonsult.se iCalcreator 2.30.10//
CALSCALE:GREGORIAN
METHOD:PUBLISH
UID:a782d059-ff4c-4579-9585-58ea28ec2e13
X-WR-CALDESC:Nuts & Bolts trainings are a great way to learn more about top
 ics that might be relevant to your CASA case directly from staff. This Nut
 s & Bolts training will be led by Advocate Supervisor Elisabeth Lee and wi
 ll focus on Family Treatment Court and substance use disorder.
X-WR-RELCALID:cd25500b4199e3f916e8a9b54bc208b5
X-WR-TIMEZONE:America/Chicago
BEGIN:VTIMEZONE
TZID:America/Chicago
BEGIN:STANDARD
TZNAME:CST
DTSTART:20231105T020000
TZOFFSETFROM:-0500
TZOFFSETTO:-0600
RDATE:20241103T020000
RDATE:20251102T020000
END:STANDARD
BEGIN:DAYLIGHT
TZNAME:CDT
DTSTART:20240310T020000
TZOFFSETFROM:-0600
TZOFFSETTO:-0500
RDATE:20250309T020000
END:DAYLIGHT
END:VTIMEZONE
BEGIN:VEVENT
UID:2c44ffb8-65aa-4c15-b15e-50850b844380
DTSTAMP:20260422T151159Z
DESCRIPTION:Nuts & Bolts trainings are a great way to learn more about topi
 cs that might be relevant to your CASA case directly from staff. This Nuts
  & Bolts training will be led by Advocate Supervisor Elisabeth Lee and wil
 l focus on Family Treatment Court and substance use disorder.
DTSTART;TZID=America/Chicago:20240807T120000
DTEND;TZID=America/Chicago:20240807T130000
LOCATION:2544 Holmes\, Kansas City\, MO 64108 US
SUMMARY:Nuts & Bolts Training: Family Treatment Court
END:VEVENT
END:VCALENDAR
