BEGIN:VCALENDAR
VERSION:2.0
PRODID:-//casakc.org//NONSGML kigkonsult.se iCalcreator 2.30.10//
CALSCALE:GREGORIAN
METHOD:PUBLISH
UID:ecd805bb-cab3-494f-a86e-3692be1ee549
X-WR-CALDESC:The Missouri CASA Conference will be held Saturday\, October 5
 \, at Columbia College in Rolla\, Missouri. Registration is open through S
 eptember 13.
X-WR-RELCALID:e0bf03c26ecc5ef53f80d27b73bdaed6
X-WR-TIMEZONE:America/Chicago
BEGIN:VTIMEZONE
TZID:America/Chicago
BEGIN:STANDARD
TZNAME:CST
DTSTART:20231105T020000
TZOFFSETFROM:-0500
TZOFFSETTO:-0600
RDATE:20241103T020000
RDATE:20251102T020000
END:STANDARD
BEGIN:DAYLIGHT
TZNAME:CDT
DTSTART:20240310T020000
TZOFFSETFROM:-0600
TZOFFSETTO:-0500
RDATE:20250309T020000
RDATE:20260308T020000
END:DAYLIGHT
END:VTIMEZONE
BEGIN:VEVENT
UID:151f973f-73f4-4933-a970-b3ce081ed04a
DTSTAMP:20260423T105002Z
DESCRIPTION:The Missouri CASA Conference will be held Saturday\, October 5\
 , at Columbia College in Rolla\, Missouri. Registration is open through Se
 ptember 13.
DTSTART;TZID=America/Chicago:20241005T050000
DTEND;TZID=America/Chicago:20241005T050001
LOCATION:Columbia College\, Rolla\, MO
SUMMARY:Missouri CASA Conference
END:VEVENT
END:VCALENDAR
