BEGIN:VCALENDAR
VERSION:2.0
PRODID:-//casakc.org//NONSGML kigkonsult.se iCalcreator 2.30.10//
CALSCALE:GREGORIAN
METHOD:PUBLISH
UID:743574f0-53cd-4f48-90e7-e697b538be28
X-WR-CALDESC:These monthly forums provide an opportunity to meet other CASA
  Volunteers\, hear from CASA staff\, and ask questions about your case. Th
 is forum will be held virtually via Microsoft Teams.
X-WR-RELCALID:f3fa24ba13eb7f09ddaf9bcc15dc2445
X-WR-TIMEZONE:America/Chicago
BEGIN:VTIMEZONE
TZID:America/Chicago
BEGIN:STANDARD
TZNAME:CST
DTSTART:20231105T020000
TZOFFSETFROM:-0500
TZOFFSETTO:-0600
RDATE:20241103T020000
RDATE:20251102T020000
END:STANDARD
BEGIN:DAYLIGHT
TZNAME:CDT
DTSTART:20240310T020000
TZOFFSETFROM:-0600
TZOFFSETTO:-0500
RDATE:20250309T020000
RDATE:20260308T020000
END:DAYLIGHT
END:VTIMEZONE
BEGIN:VEVENT
UID:06d60c0f-c163-44c3-a508-964952ead2a8
DTSTAMP:20260423T104819Z
DESCRIPTION:These monthly forums provide an opportunity to meet other CASA 
 Volunteers\, hear from CASA staff\, and ask questions about your case. Thi
 s forum will be held virtually via Microsoft Teams.
DTSTART;TZID=America/Chicago:20241007T173000
DTEND;TZID=America/Chicago:20241007T183000
LOCATION:
SUMMARY:October Volunteer Forum
END:VEVENT
END:VCALENDAR
