BEGIN:VCALENDAR
VERSION:2.0
PRODID:-//casakc.org//NONSGML kigkonsult.se iCalcreator 2.30.10//
CALSCALE:GREGORIAN
METHOD:PUBLISH
UID:5ea2eab6-16b5-46e6-a88c-19413d8b8742
X-WR-CALDESC:CASA Volunteers and staff are invited to join this book club m
 eeting to discuss the book Adult Children of Emotionally Immature Parents:
  How to Heal from Distant\, Rejecting\, or Self-Involved Parents by Lindsa
 y C. Gibson. Snacks and drinks will be provided.
X-WR-RELCALID:53ccd90cdc9d610fb17863d6ddbeb891
X-WR-TIMEZONE:America/Chicago
BEGIN:VTIMEZONE
TZID:America/Chicago
BEGIN:STANDARD
TZNAME:CST
DTSTART:20231105T020000
TZOFFSETFROM:-0500
TZOFFSETTO:-0600
RDATE:20241103T020000
RDATE:20251102T020000
END:STANDARD
BEGIN:DAYLIGHT
TZNAME:CDT
DTSTART:20240310T020000
TZOFFSETFROM:-0600
TZOFFSETTO:-0500
RDATE:20250309T020000
RDATE:20260308T020000
END:DAYLIGHT
END:VTIMEZONE
BEGIN:VEVENT
UID:b4a3635a-29cd-43ec-90a6-c74cd189fcef
DTSTAMP:20260423T105150Z
DESCRIPTION:CASA Volunteers and staff are invited to join this book club me
 eting to discuss the book Adult Children of Emotionally Immature Parents: 
 How to Heal from Distant\, Rejecting\, or Self-Involved Parents by Lindsay
  C. Gibson. Snacks and drinks will be provided.
DTSTART;TZID=America/Chicago:20241030T173000
DTEND;TZID=America/Chicago:20241030T190000
LOCATION:2544 Holmes\, Kansas City\, MO 64108 US
SUMMARY:CASA Volunteer Book Club
END:VEVENT
END:VCALENDAR
