BEGIN:VCALENDAR
VERSION:2.0
PRODID:-//casakc.org//NONSGML kigkonsult.se iCalcreator 2.30.10//
CALSCALE:GREGORIAN
METHOD:PUBLISH
UID:dc148d82-88fc-4923-a1fb-99ac0ab1ec1a
X-WR-CALDESC:
X-WR-RELCALID:db0a843564eb98d6f2a045579d8f3430
X-WR-TIMEZONE:America/Chicago
BEGIN:VTIMEZONE
TZID:America/Chicago
BEGIN:STANDARD
TZNAME:CST
DTSTART:20231105T020000
TZOFFSETFROM:-0500
TZOFFSETTO:-0600
RDATE:20241103T020000
RDATE:20251102T020000
END:STANDARD
BEGIN:DAYLIGHT
TZNAME:CDT
DTSTART:20240310T020000
TZOFFSETFROM:-0600
TZOFFSETTO:-0500
RDATE:20250309T020000
RDATE:20260308T020000
END:DAYLIGHT
END:VTIMEZONE
BEGIN:VEVENT
UID:de137e11-593e-474d-8c8f-ccace5e06e55
DTSTAMP:20260423T075201Z
DESCRIPTION:
DTSTART;TZID=America/Chicago:20241104T050000
DTEND;TZID=America/Chicago:20241214T050001
LOCATION:
SUMMARY:CASA Holiday Gift Drive
END:VEVENT
END:VCALENDAR
