BEGIN:VCALENDAR
VERSION:2.0
PRODID:-//casakc.org//NONSGML kigkonsult.se iCalcreator 2.30.10//
CALSCALE:GREGORIAN
METHOD:PUBLISH
UID:cd190012-716e-4dfa-8d8b-f32d085261e1
X-WR-CALDESC:Mark your calendars for an upcoming continuing education oppor
 tunity to discuss the driving tour\, Dividing Lines: A History of Segregat
 ion in Kansas City\, on Thursday\, November 14\, from 5:30 - 6:30 p.m. at 
 the CASA office. Please participate in the Dividing Lines driving tour or 
 watch the virtual tour before then so we can discuss together.\n\nDividing
  Lines is a driving tour of the history of residential segregation and its
  far-reaching impacts. By highlighting the history of segregation in Kansa
 s City\, Dividing Lines sheds light on the governmental policies and indiv
 idual actions which decimated Black neighborhoods all over the United Stat
 es. The tour follows a route with turn-by-turn directions and uses GPS to 
 play audio automatically at the right time and place. It is designed so th
 at you can safely drive through the city at your own pace while hearing st
 ories about each area you travel through. Download the tour for free via V
 oiceMap. If you can't drive the tour route\, you can watch a virtual tour 
 from the Johnson County Library.\n
X-WR-RELCALID:7a47e621ccac0cc45e3e6b3fcbd57fec
X-WR-TIMEZONE:America/Chicago
BEGIN:VTIMEZONE
TZID:America/Chicago
BEGIN:STANDARD
TZNAME:CST
DTSTART:20241103T020000
TZOFFSETFROM:-0500
TZOFFSETTO:-0600
RDATE:20251102T020000
END:STANDARD
BEGIN:DAYLIGHT
TZNAME:CDT
DTSTART:20240310T020000
TZOFFSETFROM:-0600
TZOFFSETTO:-0500
RDATE:20250309T020000
RDATE:20260308T020000
END:DAYLIGHT
END:VTIMEZONE
BEGIN:VEVENT
UID:516ed4ef-c993-4d4e-a2fe-b4054341c2eb
DTSTAMP:20260423T091044Z
DESCRIPTION:Mark your calendars for an upcoming continuing education opport
 unity to discuss the driving tour\, Dividing Lines: A History of Segregati
 on in Kansas City\, on Thursday\, November 14\, from 5:30 - 6:30 p.m. at t
 he CASA office. Please participate in the Dividing Lines driving tour or w
 atch the virtual tour before then so we can discuss together.\n\nDividing 
 Lines is a driving tour of the history of residential segregation and its 
 far-reaching impacts. By highlighting the history of segregation in Kansas
  City\, Dividing Lines sheds light on the governmental policies and indivi
 dual actions which decimated Black neighborhoods all over the United State
 s. The tour follows a route with turn-by-turn directions and uses GPS to p
 lay audio automatically at the right time and place. It is designed so tha
 t you can safely drive through the city at your own pace while hearing sto
 ries about each area you travel through. Download the tour for free via Vo
 iceMap. If you can't drive the tour route\, you can watch a virtual tour f
 rom the Johnson County Library.\n
DTSTART;TZID=America/Chicago:20241114T173000
DTEND;TZID=America/Chicago:20241114T183000
LOCATION:2544 Holmes\, Kansas City\, MO 64108 US
SUMMARY:Dividing Lines: A History of Segregation in Kansas City
END:VEVENT
END:VCALENDAR
