BEGIN:VCALENDAR
VERSION:2.0
PRODID:-//casakc.org//NONSGML kigkonsult.se iCalcreator 2.30.10//
CALSCALE:GREGORIAN
METHOD:PUBLISH
UID:4404e137-88ff-41ac-9184-7c4cced36185
X-WR-CALDESC:These monthly forums provide an opportunity to meet other CASA
  Volunteers\, hear from CASA staff\, and ask questions about your case. Th
 is forum will be held virtually via Microsoft Teams. \n\nTo access the lin
 k\, RSVP via Evite\, check the volunteer newsletter\, or contact your Advo
 cate Supervisor.
X-WR-RELCALID:dc17a45d06aa6c876f2ce60a5b453f3d
X-WR-TIMEZONE:America/Chicago
BEGIN:VTIMEZONE
TZID:America/Chicago
BEGIN:STANDARD
TZNAME:CST
DTSTART:20241103T020000
TZOFFSETFROM:-0500
TZOFFSETTO:-0600
RDATE:20251102T020000
END:STANDARD
BEGIN:DAYLIGHT
TZNAME:CDT
DTSTART:20240310T020000
TZOFFSETFROM:-0600
TZOFFSETTO:-0500
RDATE:20250309T020000
RDATE:20260308T020000
END:DAYLIGHT
END:VTIMEZONE
BEGIN:VEVENT
UID:690d2b74-aecb-4efa-803d-dc66a5e65b11
DTSTAMP:20260423T061948Z
DESCRIPTION:These monthly forums provide an opportunity to meet other CASA 
 Volunteers\, hear from CASA staff\, and ask questions about your case. Thi
 s forum will be held virtually via Microsoft Teams. \n\nTo access the link
 \, RSVP via Evite\, check the volunteer newsletter\, or contact your Advoc
 ate Supervisor.
DTSTART;TZID=America/Chicago:20250109T120000
DTEND;TZID=America/Chicago:20250109T130000
LOCATION:
SUMMARY:January Virtual Volunteer Forum
END:VEVENT
END:VCALENDAR
