BEGIN:VCALENDAR
VERSION:2.0
PRODID:-//casakc.org//NONSGML kigkonsult.se iCalcreator 2.30.10//
CALSCALE:GREGORIAN
METHOD:PUBLISH
UID:d5dfcafb-711a-469d-a3e1-f995e70800ea
X-WR-CALDESC:Join our Call to Action event where we will have dinner and di
 scuss the projected number of children and youth we will be representing i
 n 2025\, our need for Volunteer Advocates to support those youth.
X-WR-RELCALID:e1f4fa2dca1d1792abb20518f6397602
X-WR-TIMEZONE:America/Chicago
BEGIN:VTIMEZONE
TZID:America/Chicago
BEGIN:STANDARD
TZNAME:CST
DTSTART:20241103T020000
TZOFFSETFROM:-0500
TZOFFSETTO:-0600
RDATE:20251102T020000
END:STANDARD
BEGIN:DAYLIGHT
TZNAME:CDT
DTSTART:20240310T020000
TZOFFSETFROM:-0600
TZOFFSETTO:-0500
RDATE:20250309T020000
RDATE:20260308T020000
END:DAYLIGHT
END:VTIMEZONE
BEGIN:VEVENT
UID:2630fbf3-ac10-4269-9261-2cf8fc566dac
DTSTAMP:20260423T061933Z
DESCRIPTION:Join our Call to Action event where we will have dinner and dis
 cuss the projected number of children and youth we will be representing in
  2025\, our need for Volunteer Advocates to support those youth.
DTSTART;TZID=America/Chicago:20250113T173000
DTEND;TZID=America/Chicago:20250113T190000
LOCATION:2544 HOLMES ST\, Kansas City\, MO 64108-2743 US
SUMMARY:January Call to Action
END:VEVENT
END:VCALENDAR
