BEGIN:VCALENDAR
VERSION:2.0
PRODID:-//casakc.org//NONSGML kigkonsult.se iCalcreator 2.30.10//
CALSCALE:GREGORIAN
METHOD:PUBLISH
UID:88442912-a694-4aa3-8ab2-ba4d79c50422
X-WR-CALDESC:Fostering Futures is a two-part training led by Older Youth Pr
 ogram Manager Kandi Bond that is offered throughout the year. Fostering Fu
 tures is required for volunteers working with older youth. It focuses on i
 mproving outcomes for older and emancipating youth. It has been informed b
 y the 2008 Fostering Connections to Success Act and is inspired by a model
  of youth advocacy and development called 'possible selves.' This training
  will take place in person at Jackson County CASA's office (2544 Holmes\, 
 KCMO 64108).
X-WR-RELCALID:4413e0cacb4af8b4668139b273e689a0
X-WR-TIMEZONE:America/Chicago
BEGIN:VTIMEZONE
TZID:America/Chicago
BEGIN:STANDARD
TZNAME:CST
DTSTART:20241103T020000
TZOFFSETFROM:-0500
TZOFFSETTO:-0600
RDATE:20251102T020000
END:STANDARD
BEGIN:DAYLIGHT
TZNAME:CDT
DTSTART:20240310T020000
TZOFFSETFROM:-0600
TZOFFSETTO:-0500
RDATE:20250309T020000
RDATE:20260308T020000
END:DAYLIGHT
END:VTIMEZONE
BEGIN:VEVENT
UID:40b4ef99-28a7-4e12-99b6-718eeff0e6bd
DTSTAMP:20260423T061800Z
DESCRIPTION:Fostering Futures is a two-part training led by Older Youth Pro
 gram Manager Kandi Bond that is offered throughout the year. Fostering Fut
 ures is required for volunteers working with older youth. It focuses on im
 proving outcomes for older and emancipating youth. It has been informed by
  the 2008 Fostering Connections to Success Act and is inspired by a model 
 of youth advocacy and development called 'possible selves.' This training 
 will take place in person at Jackson County CASA's office (2544 Holmes\, K
 CMO 64108).
DTSTART;TZID=America/Chicago:20250128T170000
DTEND;TZID=America/Chicago:20250128T190000
LOCATION:2544 Holmes\, Kansas City\, MO 64108 US
SUMMARY:Fostering Futures Training
END:VEVENT
END:VCALENDAR
