BEGIN:VCALENDAR
VERSION:2.0
PRODID:-//casakc.org//NONSGML kigkonsult.se iCalcreator 2.30.10//
CALSCALE:GREGORIAN
METHOD:PUBLISH
UID:14f02baf-91c4-4bb8-a181-da2eafad568f
X-WR-CALDESC:Nuts & Bolts trainings are a great way to learn more about top
 ics that might be relevant to your CASA case directly from staff. This Nut
 s & Bolts training will be an interactive case study. Whether you're an ex
 perienced CASA or a new volunteer who wants to practice additional case st
 udies that were not covered in pre-service volunteer training\, this will 
 be an interactive opportunity to brainstorm with other CASA Volunteers on 
 a sample case. This training will be led by Manager of Volunteer Training 
 and Retention Lisa Martin and Director of Volunteer Services Laura William
 s. It will be held in person at the CASA office (2544 Holmes\, KCMO 64108)
 . Please enter through the front door when you arrive.
X-WR-RELCALID:5a98206984698c911057f632bf361c86
X-WR-TIMEZONE:America/Chicago
BEGIN:VTIMEZONE
TZID:America/Chicago
BEGIN:STANDARD
TZNAME:CST
DTSTART:20241103T020000
TZOFFSETFROM:-0500
TZOFFSETTO:-0600
RDATE:20251102T020000
END:STANDARD
BEGIN:DAYLIGHT
TZNAME:CDT
DTSTART:20240310T020000
TZOFFSETFROM:-0600
TZOFFSETTO:-0500
RDATE:20250309T020000
RDATE:20260308T020000
END:DAYLIGHT
END:VTIMEZONE
BEGIN:VEVENT
UID:9382cfc8-6a08-4b49-9c5d-f7081880ecce
DTSTAMP:20260423T042656Z
DESCRIPTION:Nuts & Bolts trainings are a great way to learn more about topi
 cs that might be relevant to your CASA case directly from staff. This Nuts
  & Bolts training will be an interactive case study. Whether you're an exp
 erienced CASA or a new volunteer who wants to practice additional case stu
 dies that were not covered in pre-service volunteer training\, this will b
 e an interactive opportunity to brainstorm with other CASA Volunteers on a
  sample case. This training will be led by Manager of Volunteer Training a
 nd Retention Lisa Martin and Director of Volunteer Services Laura Williams
 . It will be held in person at the CASA office (2544 Holmes\, KCMO 64108).
  Please enter through the front door when you arrive.
DTSTART;TZID=America/Chicago:20250206T173000
DTEND;TZID=America/Chicago:20250206T190000
LOCATION:2544 Holmes\, Kansas City\, MO 64108 US
SUMMARY:Nuts & Bolts Training: Case Study
END:VEVENT
END:VCALENDAR
