BEGIN:VCALENDAR
VERSION:2.0
PRODID:-//casakc.org//NONSGML kigkonsult.se iCalcreator 2.30.10//
CALSCALE:GREGORIAN
METHOD:PUBLISH
UID:f3b07362-5fbc-47c6-b72a-52eadb9bfb9c
X-WR-CALDESC:This is the first training in a four-part series focused on gu
 n violence and gun safety. Mothers in Charge will present information on t
 heir organization and supports they offer to families impacted by gun viol
 ence. Mothers in Charge is an organization that cares for Kansas City fami
 lies who have lost a loved one to homicide\, providing victim and family s
 ervices\, education\, and advocacy. They are a group of mothers\, grandmot
 hers\, aunts\, and a caring community committed to working to prevent othe
 rs from experiencing the tragedy of homicide.
X-WR-RELCALID:d373a616269c31d7eb00ed0e32e08c21
X-WR-TIMEZONE:America/Chicago
BEGIN:VTIMEZONE
TZID:America/Chicago
BEGIN:STANDARD
TZNAME:CST
DTSTART:20241103T020000
TZOFFSETFROM:-0500
TZOFFSETTO:-0600
RDATE:20251102T020000
END:STANDARD
BEGIN:DAYLIGHT
TZNAME:CDT
DTSTART:20240310T020000
TZOFFSETFROM:-0600
TZOFFSETTO:-0500
RDATE:20250309T020000
RDATE:20260308T020000
END:DAYLIGHT
END:VTIMEZONE
BEGIN:VEVENT
UID:b6567b71-a150-43e7-8f3c-9afd998f0bd7
DTSTAMP:20260423T050708Z
DESCRIPTION:This is the first training in a four-part series focused on gun
  violence and gun safety. Mothers in Charge will present information on th
 eir organization and supports they offer to families impacted by gun viole
 nce. Mothers in Charge is an organization that cares for Kansas City famil
 ies who have lost a loved one to homicide\, providing victim and family se
 rvices\, education\, and advocacy. They are a group of mothers\, grandmoth
 ers\, aunts\, and a caring community committed to working to prevent other
 s from experiencing the tragedy of homicide.
DTSTART;TZID=America/Chicago:20250210T120000
DTEND;TZID=America/Chicago:20250210T130000
LOCATION:2544 Holmes\, Kansas City\, MO 64108 US
SUMMARY:Continuing Education: Supports for Families Impacted by Gun Violenc
 e
END:VEVENT
END:VCALENDAR
