BEGIN:VCALENDAR
VERSION:2.0
PRODID:-//casakc.org//NONSGML kigkonsult.se iCalcreator 2.30.10//
CALSCALE:GREGORIAN
METHOD:PUBLISH
UID:d2581cdd-c122-4629-9615-6bf5163d5293
X-WR-CALDESC:
X-WR-RELCALID:179ecf9d54624fedf2fe81b5fbb5ae04
X-WR-TIMEZONE:America/Chicago
BEGIN:VTIMEZONE
TZID:America/Chicago
BEGIN:STANDARD
TZNAME:CST
DTSTART:20241103T020000
TZOFFSETFROM:-0500
TZOFFSETTO:-0600
RDATE:20251102T020000
END:STANDARD
BEGIN:DAYLIGHT
TZNAME:CDT
DTSTART:20240310T020000
TZOFFSETFROM:-0600
TZOFFSETTO:-0500
RDATE:20250309T020000
RDATE:20260308T020000
END:DAYLIGHT
END:VTIMEZONE
BEGIN:VEVENT
UID:6f5bd648-e027-4a57-a4e9-ebefbfe5ddad
DTSTAMP:20260423T050524Z
DESCRIPTION:
DTSTART;TZID=America/Chicago:20250217T050000
DTEND;TZID=America/Chicago:20250217T050001
LOCATION:
SUMMARY:CASA Office Closed: President's Day
END:VEVENT
END:VCALENDAR
