BEGIN:VCALENDAR
VERSION:2.0
PRODID:-//casakc.org//NONSGML kigkonsult.se iCalcreator 2.30.10//
CALSCALE:GREGORIAN
METHOD:PUBLISH
UID:737a9ecb-616c-44f9-8f56-5ad43ae82b30
X-WR-CALDESC:This training is designed for volunteers who want to learn how
  to highlight their experiences as a CASA Volunteer and share those experi
 ences with others in an impactful way. This can be helpful when recruiting
  new volunteers\, talking to friends or family about your role\, or sharin
 g your experiences with others. Manager of Recruitment and Community Engag
 ement Ashley Huggans will help volunteers craft and enhance their pitch to
  people who are interested in volunteering.
X-WR-RELCALID:2ac53af09c5fb023038500c6da362170
X-WR-TIMEZONE:America/Chicago
BEGIN:VTIMEZONE
TZID:America/Chicago
BEGIN:STANDARD
TZNAME:CST
DTSTART:20241103T020000
TZOFFSETFROM:-0500
TZOFFSETTO:-0600
RDATE:20251102T020000
END:STANDARD
BEGIN:DAYLIGHT
TZNAME:CDT
DTSTART:20240310T020000
TZOFFSETFROM:-0600
TZOFFSETTO:-0500
RDATE:20250309T020000
RDATE:20260308T020000
END:DAYLIGHT
END:VTIMEZONE
BEGIN:VEVENT
UID:4ac5ebe3-5f23-4e50-a7e1-fe34f9cde35a
DTSTAMP:20260423T045316Z
DESCRIPTION:This training is designed for volunteers who want to learn how 
 to highlight their experiences as a CASA Volunteer and share those experie
 nces with others in an impactful way. This can be helpful when recruiting 
 new volunteers\, talking to friends or family about your role\, or sharing
  your experiences with others. Manager of Recruitment and Community Engage
 ment Ashley Huggans will help volunteers craft and enhance their pitch to 
 people who are interested in volunteering.
DTSTART;TZID=America/Chicago:20250219T173000
DTEND;TZID=America/Chicago:20250219T183000
LOCATION:2544 Holmes\, Kansas City\, MO 64108 US
SUMMARY:Continuing Education: Storytelling 101
END:VEVENT
END:VCALENDAR
