BEGIN:VCALENDAR
VERSION:2.0
PRODID:-//casakc.org//NONSGML kigkonsult.se iCalcreator 2.30.10//
CALSCALE:GREGORIAN
METHOD:PUBLISH
UID:6852c18b-8ab5-497c-b5cc-db1208305d2c
X-WR-CALDESC:These monthly forums provide an opportunity to meet other CASA
  Volunteers\, hear from CASA staff\, and ask questions about your case. Th
 is forum will be held virtually via Microsoft Teams. \n\nTo access the lin
 k\, RSVP via Evite\, check the volunteer newsletter\, or contact your Advo
 cate Supervisor.
X-WR-RELCALID:107e77b617b2680aacb001d0add607b9
X-WR-TIMEZONE:America/Chicago
BEGIN:VTIMEZONE
TZID:America/Chicago
BEGIN:STANDARD
TZNAME:CST
DTSTART:20241103T020000
TZOFFSETFROM:-0500
TZOFFSETTO:-0600
RDATE:20251102T020000
END:STANDARD
BEGIN:DAYLIGHT
TZNAME:CDT
DTSTART:20240310T020000
TZOFFSETFROM:-0600
TZOFFSETTO:-0500
RDATE:20250309T020000
RDATE:20260308T020000
END:DAYLIGHT
END:VTIMEZONE
BEGIN:VEVENT
UID:d39bf66e-df79-4f43-9316-4c9fee153849
DTSTAMP:20260423T044859Z
DESCRIPTION:These monthly forums provide an opportunity to meet other CASA 
 Volunteers\, hear from CASA staff\, and ask questions about your case. Thi
 s forum will be held virtually via Microsoft Teams. \n\nTo access the link
 \, RSVP via Evite\, check the volunteer newsletter\, or contact your Advoc
 ate Supervisor.
DTSTART;TZID=America/Chicago:20250225T173000
DTEND;TZID=America/Chicago:20250225T183000
LOCATION:
SUMMARY:February Virtual Volunteer Forum
END:VEVENT
END:VCALENDAR
