BEGIN:VCALENDAR
VERSION:2.0
PRODID:-//casakc.org//NONSGML kigkonsult.se iCalcreator 2.30.10//
CALSCALE:GREGORIAN
METHOD:PUBLISH
UID:fadd5bfb-27a3-41ab-b04d-66c78bb7f08e
X-WR-CALDESC:You're invited to the first CASA Book Club meeting of 2025 on 
 Wednesday\, March 5\, at 5:30 p.m. at the CASA office. During this meeting
 \, we will discuss the bestselling book Just Mercy: A Story of Justice and
  Redemption by Bryan Stevenson.\n\nSnacks and drinks will be provided! If 
 you're part of a personal book club or have family or friends who would li
 ke to join\, please let us know and invite them to participate!
X-WR-RELCALID:97cf4b008fdec1e076c91ac04ac27415
X-WR-TIMEZONE:America/Chicago
BEGIN:VTIMEZONE
TZID:America/Chicago
BEGIN:STANDARD
TZNAME:CST
DTSTART:20241103T020000
TZOFFSETFROM:-0500
TZOFFSETTO:-0600
RDATE:20251102T020000
END:STANDARD
BEGIN:DAYLIGHT
TZNAME:CDT
DTSTART:20240310T020000
TZOFFSETFROM:-0600
TZOFFSETTO:-0500
RDATE:20250309T020000
RDATE:20260308T020000
END:DAYLIGHT
END:VTIMEZONE
BEGIN:VEVENT
UID:c6eb7e5a-6f71-42f6-b264-4f7776b6bf08
DTSTAMP:20260423T031258Z
DESCRIPTION:You're invited to the first CASA Book Club meeting of 2025 on W
 ednesday\, March 5\, at 5:30 p.m. at the CASA office. During this meeting\
 , we will discuss the bestselling book Just Mercy: A Story of Justice and 
 Redemption by Bryan Stevenson.\n\nSnacks and drinks will be provided! If y
 ou're part of a personal book club or have family or friends who would lik
 e to join\, please let us know and invite them to participate!
DTSTART;TZID=America/Chicago:20250305T173000
DTEND;TZID=America/Chicago:20250305T190000
LOCATION:2544 Holmes\, Kansas City\, MO 64108 US
SUMMARY:CASA Book Club: Just Mercy
END:VEVENT
END:VCALENDAR
