BEGIN:VCALENDAR
VERSION:2.0
PRODID:-//casakc.org//NONSGML kigkonsult.se iCalcreator 2.30.10//
CALSCALE:GREGORIAN
METHOD:PUBLISH
UID:8ca53a02-7ff6-4029-8233-7c4e76a2d679
X-WR-CALDESC:Join us for a webinar that will provide a foundational overvie
 w of immigration relief options for children. We will also learn how recen
 t changes to immigration policy could potentially affect our youth under t
 he jurisdiction of family court and what immigration attorneys are doing t
 o confront the issues their young clients are facing. This training will b
 e presented by Kathleen Irish\, a dedicated immigration attorney based in 
 Kansas City\, Missouri\, with a focus on family-based and humanitarian imm
 igration law. Kathleen is a committed advocate for children in foster care
  who lack proper immigration documentation and she often works with victim
 s of domestic violence and other violent crimes in navigating their legal 
 immigration options. Missouri Attorneys can receive 1 hour of CLE credit f
 or the webinar. You must register in advance to receive the Microsoft Team
 s link to join. Register at\nbit.ly/CASAsImmigrationCLE
X-WR-RELCALID:264e06e88419e6297a39947fa99ab0a9
X-WR-TIMEZONE:America/Chicago
BEGIN:VTIMEZONE
TZID:America/Chicago
BEGIN:STANDARD
TZNAME:CST
DTSTART:20241103T020000
TZOFFSETFROM:-0500
TZOFFSETTO:-0600
RDATE:20251102T020000
END:STANDARD
BEGIN:DAYLIGHT
TZNAME:CDT
DTSTART:20240310T020000
TZOFFSETFROM:-0600
TZOFFSETTO:-0500
RDATE:20250309T020000
RDATE:20260308T020000
END:DAYLIGHT
END:VTIMEZONE
BEGIN:VEVENT
UID:404cc017-3327-4260-9c18-926a6c910bef
DTSTAMP:20260423T031609Z
DESCRIPTION:Join us for a webinar that will provide a foundational overview
  of immigration relief options for children. We will also learn how recent
  changes to immigration policy could potentially affect our youth under th
 e jurisdiction of family court and what immigration attorneys are doing to
  confront the issues their young clients are facing. This training will be
  presented by Kathleen Irish\, a dedicated immigration attorney based in K
 ansas City\, Missouri\, with a focus on family-based and humanitarian immi
 gration law. Kathleen is a committed advocate for children in foster care 
 who lack proper immigration documentation and she often works with victims
  of domestic violence and other violent crimes in navigating their legal i
 mmigration options. Missouri Attorneys can receive 1 hour of CLE credit fo
 r the webinar. You must register in advance to receive the Microsoft Teams
  link to join. Register at\nbit.ly/CASAsImmigrationCLE
DTSTART;TZID=America/Chicago:20250306T120000
DTEND;TZID=America/Chicago:20250306T130000
LOCATION:
SUMMARY:Continuing Legal Education: Advocating for Immigrant Youth
END:VEVENT
END:VCALENDAR
