BEGIN:VCALENDAR
VERSION:2.0
PRODID:-//casakc.org//NONSGML kigkonsult.se iCalcreator 2.30.10//
CALSCALE:GREGORIAN
METHOD:PUBLISH
UID:20224078-370f-4893-87cd-994f9d851e3e
X-WR-CALDESC:Misty Campbell\, M.S.\, SHRM-C\, Associate Professor of Crimin
 al Justice at the University of Kansas will present a strengths-based appr
 oach to advocating for CASA children and families. This approach is rooted
  in sociologist Elijah Anderson's 'Code of the Streets' theory. The traini
 ng will cover community trauma\, poverty\, and safety decision making. Joi
 n in person at the Jackson County CASA office or virtually via Microsoft T
 eams.
X-WR-RELCALID:c60184a96b8386f32d0ac0aa10d2f7a0
X-WR-TIMEZONE:America/Chicago
BEGIN:VTIMEZONE
TZID:America/Chicago
BEGIN:STANDARD
TZNAME:CST
DTSTART:20241103T020000
TZOFFSETFROM:-0500
TZOFFSETTO:-0600
RDATE:20251102T020000
END:STANDARD
BEGIN:DAYLIGHT
TZNAME:CDT
DTSTART:20240310T020000
TZOFFSETFROM:-0600
TZOFFSETTO:-0500
RDATE:20250309T020000
RDATE:20260308T020000
END:DAYLIGHT
END:VTIMEZONE
BEGIN:VEVENT
UID:1d2cee51-db73-4cc6-98a6-e01bd42bb354
DTSTAMP:20260423T031140Z
DESCRIPTION:Misty Campbell\, M.S.\, SHRM-C\, Associate Professor of Crimina
 l Justice at the University of Kansas will present a strengths-based appro
 ach to advocating for CASA children and families. This approach is rooted 
 in sociologist Elijah Anderson's 'Code of the Streets' theory. The trainin
 g will cover community trauma\, poverty\, and safety decision making. Join
  in person at the Jackson County CASA office or virtually via Microsoft Te
 ams.
DTSTART;TZID=America/Chicago:20250307T120000
DTEND;TZID=America/Chicago:20250307T130000
LOCATION:2544 Holmes\, Kansas City\, MO 64108 US
SUMMARY:Continuing Education: Identifying Family Strengths
END:VEVENT
END:VCALENDAR
