BEGIN:VCALENDAR
VERSION:2.0
PRODID:-//casakc.org//NONSGML kigkonsult.se iCalcreator 2.30.10//
CALSCALE:GREGORIAN
METHOD:PUBLISH
UID:2c51c52d-fe36-4311-b067-e337f897eb9c
X-WR-CALDESC:These monthly forums provide an opportunity to meet other CASA
  Volunteers\, hear from CASA staff\, and ask questions about your case. Th
 is forum will be held at the CASA office\, and breakfast will be provided!
X-WR-RELCALID:5fa3dd440a777dea1901db04811dfc71
X-WR-TIMEZONE:America/Chicago
BEGIN:VTIMEZONE
TZID:America/Chicago
BEGIN:STANDARD
TZNAME:CST
DTSTART:20241103T020000
TZOFFSETFROM:-0500
TZOFFSETTO:-0600
RDATE:20251102T020000
END:STANDARD
BEGIN:DAYLIGHT
TZNAME:CDT
DTSTART:20250309T020000
TZOFFSETFROM:-0600
TZOFFSETTO:-0500
RDATE:20260308T020000
END:DAYLIGHT
END:VTIMEZONE
BEGIN:VEVENT
UID:b7a48bfc-7c1a-471b-8794-cee084ac4add
DTSTAMP:20260423T031142Z
DESCRIPTION:These monthly forums provide an opportunity to meet other CASA 
 Volunteers\, hear from CASA staff\, and ask questions about your case. Thi
 s forum will be held at the CASA office\, and breakfast will be provided!
DTSTART;TZID=America/Chicago:20250321T090000
DTEND;TZID=America/Chicago:20250321T100000
LOCATION:2544 Holmes\, Kansas City\, MO 64108 US
SUMMARY:March In-Person Volunteer Forum
END:VEVENT
END:VCALENDAR
