BEGIN:VCALENDAR
VERSION:2.0
PRODID:-//casakc.org//NONSGML kigkonsult.se iCalcreator 2.30.10//
CALSCALE:GREGORIAN
METHOD:PUBLISH
UID:f936621f-b9dd-4f56-9b84-8cb3c6bc82f2
X-WR-CALDESC:
X-WR-RELCALID:580d81eb471aa9f351141191347ad8a2
X-WR-TIMEZONE:America/Chicago
BEGIN:VTIMEZONE
TZID:America/Chicago
BEGIN:STANDARD
TZNAME:CST
DTSTART:20241103T020000
TZOFFSETFROM:-0500
TZOFFSETTO:-0600
RDATE:20251102T020000
END:STANDARD
BEGIN:DAYLIGHT
TZNAME:CDT
DTSTART:20250309T020000
TZOFFSETFROM:-0600
TZOFFSETTO:-0500
RDATE:20260308T020000
END:DAYLIGHT
END:VTIMEZONE
BEGIN:VEVENT
UID:fdd1975f-8c4e-45bf-93a7-962dde190026
DTSTAMP:20260423T014634Z
DESCRIPTION:
DTSTART;TZID=America/Chicago:20250403T120000
DTEND;TZID=America/Chicago:20250403T130000
LOCATION:
SUMMARY:Continuing Education: Optima
END:VEVENT
END:VCALENDAR
