BEGIN:VCALENDAR
VERSION:2.0
PRODID:-//casakc.org//NONSGML kigkonsult.se iCalcreator 2.30.10//
CALSCALE:GREGORIAN
METHOD:PUBLISH
UID:5181a85b-9ac6-4a5d-85e5-7da7d3a85572
X-WR-CALDESC:These monthly forums provide an opportunity to meet other CASA
  Volunteers\, hear from CASA staff\, and ask questions about your case. Th
 is forum will be held virtually via Microsoft Teams. \n\nTo access the lin
 k\, RSVP via Evite\, check the volunteer newsletter\, or contact your Advo
 cate Supervisor.
X-WR-RELCALID:cdcc112c6f468a0f9aa76f66c43b271e
X-WR-TIMEZONE:America/Chicago
BEGIN:VTIMEZONE
TZID:America/Chicago
BEGIN:STANDARD
TZNAME:CST
DTSTART:20241103T020000
TZOFFSETFROM:-0500
TZOFFSETTO:-0600
RDATE:20251102T020000
END:STANDARD
BEGIN:DAYLIGHT
TZNAME:CDT
DTSTART:20250309T020000
TZOFFSETFROM:-0600
TZOFFSETTO:-0500
RDATE:20260308T020000
END:DAYLIGHT
END:VTIMEZONE
BEGIN:VEVENT
UID:5ec6ef34-681c-452c-9ef4-eee27675b2d9
DTSTAMP:20260423T015717Z
DESCRIPTION:These monthly forums provide an opportunity to meet other CASA 
 Volunteers\, hear from CASA staff\, and ask questions about your case. Thi
 s forum will be held virtually via Microsoft Teams. \n\nTo access the link
 \, RSVP via Evite\, check the volunteer newsletter\, or contact your Advoc
 ate Supervisor.
DTSTART;TZID=America/Chicago:20250409T120000
DTEND;TZID=America/Chicago:20250409T130000
LOCATION:
SUMMARY:April Virtual Volunteer Forum
END:VEVENT
END:VCALENDAR
