BEGIN:VCALENDAR
VERSION:2.0
PRODID:-//casakc.org//NONSGML kigkonsult.se iCalcreator 2.30.10//
CALSCALE:GREGORIAN
METHOD:PUBLISH
UID:535a9c21-138f-428c-ac38-4786194bc459
X-WR-CALDESC:Let's celebrate the nonprofit sector together on 501c Day! Jac
 kson County CASA will be open for public tours where you can tour the newl
 y-renovated CASA office\, enjoy refreshments\, and learn more about the or
 ganizations growth and opportunities to volunteer.
X-WR-RELCALID:0bd37bac6ce2184e08e16e64789324b5
X-WR-TIMEZONE:America/Chicago
BEGIN:VTIMEZONE
TZID:America/Chicago
BEGIN:STANDARD
TZNAME:CST
DTSTART:20241103T020000
TZOFFSETFROM:-0500
TZOFFSETTO:-0600
RDATE:20251102T020000
END:STANDARD
BEGIN:DAYLIGHT
TZNAME:CDT
DTSTART:20250309T020000
TZOFFSETFROM:-0600
TZOFFSETTO:-0500
RDATE:20260308T020000
END:DAYLIGHT
END:VTIMEZONE
BEGIN:VEVENT
UID:5ac1fbdc-bd09-41a8-bd4b-273e1ff2f6b0
DTSTAMP:20260423T002338Z
DESCRIPTION:Let's celebrate the nonprofit sector together on 501c Day! Jack
 son County CASA will be open for public tours where you can tour the newly
 -renovated CASA office\, enjoy refreshments\, and learn more about the org
 anizations growth and opportunities to volunteer.
DTSTART;TZID=America/Chicago:20250501T170000
DTEND;TZID=America/Chicago:20250501T190000
LOCATION:2544 Holmes\, Kansas City\, MO 64108 US
SUMMARY:501c Day Open House
END:VEVENT
END:VCALENDAR
