BEGIN:VCALENDAR
VERSION:2.0
PRODID:-//casakc.org//NONSGML kigkonsult.se iCalcreator 2.30.10//
CALSCALE:GREGORIAN
METHOD:PUBLISH
UID:a853a1b6-2330-4252-8567-683e34ac67d5
X-WR-CALDESC:
X-WR-RELCALID:13b9d18934f0d9b816180af596c536e8
X-WR-TIMEZONE:America/Chicago
BEGIN:VTIMEZONE
TZID:America/Chicago
BEGIN:STANDARD
TZNAME:CST
DTSTART:20241103T020000
TZOFFSETFROM:-0500
TZOFFSETTO:-0600
RDATE:20251102T020000
RDATE:20261101T020000
END:STANDARD
BEGIN:DAYLIGHT
TZNAME:CDT
DTSTART:20250309T020000
TZOFFSETFROM:-0600
TZOFFSETTO:-0500
RDATE:20260308T020000
END:DAYLIGHT
END:VTIMEZONE
BEGIN:VEVENT
UID:bfb86a0f-95af-40a6-8642-8e9f841178f6
DTSTAMP:20260423T002542Z
DESCRIPTION:
DTSTART;TZID=America/Chicago:20250508T050000
DTEND;TZID=America/Chicago:20250508T050001
LOCATION:
SUMMARY:CASA Office Closed: Truman Day
END:VEVENT
END:VCALENDAR
