BEGIN:VCALENDAR
VERSION:2.0
PRODID:-//casakc.org//NONSGML kigkonsult.se iCalcreator 2.30.10//
CALSCALE:GREGORIAN
METHOD:PUBLISH
UID:40d18fb7-0153-4c8c-8bc4-0312975a2b27
X-WR-CALDESC:CASA Volunteers who work with older youth are invited to parti
 cipate in this new training that will be offered quarterly. This Older You
 th Boot Camp training covers additional information that is not covered du
 ring Fostering Futures or pre-service training. It will include a detailed
  explanation of the older youth program\, Children's Division's policies\,
  specialized case management\, transition planning\, and the exit packet.
X-WR-RELCALID:4dbf482ec4ad3a711fca405606ebe554
X-WR-TIMEZONE:America/Chicago
BEGIN:VTIMEZONE
TZID:America/Chicago
BEGIN:STANDARD
TZNAME:CST
DTSTART:20241103T020000
TZOFFSETFROM:-0500
TZOFFSETTO:-0600
RDATE:20251102T020000
RDATE:20261101T020000
END:STANDARD
BEGIN:DAYLIGHT
TZNAME:CDT
DTSTART:20250309T020000
TZOFFSETFROM:-0600
TZOFFSETTO:-0500
RDATE:20260308T020000
END:DAYLIGHT
END:VTIMEZONE
BEGIN:VEVENT
UID:f78cac01-fdfc-4029-8ac7-8a43a25ac100
DTSTAMP:20260423T002338Z
DESCRIPTION:CASA Volunteers who work with older youth are invited to partic
 ipate in this new training that will be offered quarterly. This Older Yout
 h Boot Camp training covers additional information that is not covered dur
 ing Fostering Futures or pre-service training. It will include a detailed 
 explanation of the older youth program\, Children's Division's policies\, 
 specialized case management\, transition planning\, and the exit packet.
DTSTART;TZID=America/Chicago:20250515T170000
DTEND;TZID=America/Chicago:20250515T190000
LOCATION:2544 Holmes\, Kansas City\, MO 64108 US
SUMMARY:Older Youth Boot Camp
END:VEVENT
END:VCALENDAR
