BEGIN:VCALENDAR
VERSION:2.0
PRODID:-//casakc.org//NONSGML kigkonsult.se iCalcreator 2.30.10//
CALSCALE:GREGORIAN
METHOD:PUBLISH
UID:0643eb47-5679-44e7-9f6f-305fe7fe8c2d
X-WR-CALDESC:Join us for a 30-minute online no-obligation information sessi
 on to learn about the role of a CASA volunteer. If you're already familiar
  with CASA's program and would like to volunteer\, click on the 'Volunteer
 ' section of Jackson County CASA's website to submit an application and sc
 hedule an interview. \n\nTo register for this info session\, email Volunte
 er Services Specialist Kara Strickler at kstrickler@casakc.org or click th
 e Register Now button above.
X-WR-RELCALID:8429fc6061579fabdac9ffb43da78149
X-WR-TIMEZONE:America/Chicago
BEGIN:VTIMEZONE
TZID:America/Chicago
BEGIN:STANDARD
TZNAME:CST
DTSTART:20241103T020000
TZOFFSETFROM:-0500
TZOFFSETTO:-0600
RDATE:20251102T020000
RDATE:20261101T020000
END:STANDARD
BEGIN:DAYLIGHT
TZNAME:CDT
DTSTART:20250309T020000
TZOFFSETFROM:-0600
TZOFFSETTO:-0500
RDATE:20260308T020000
END:DAYLIGHT
END:VTIMEZONE
BEGIN:VEVENT
UID:fda68564-eff0-4359-bdcc-d809fd00e9d9
DTSTAMP:20260423T001638Z
DESCRIPTION:Join us for a 30-minute online no-obligation information sessio
 n to learn about the role of a CASA volunteer. If you're already familiar 
 with CASA's program and would like to volunteer\, click on the 'Volunteer'
  section of Jackson County CASA's website to submit an application and sch
 edule an interview. \n\nTo register for this info session\, email Voluntee
 r Services Specialist Kara Strickler at kstrickler@casakc.org or click the
  Register Now button above.
DTSTART;TZID=America/Chicago:20250515T120000
DTEND;TZID=America/Chicago:20250515T124500
LOCATION:Info sessions are conducted via Zoom. Please register to receive t
 he Zoom link.
SUMMARY:Virtual Volunteer Info Session
END:VEVENT
END:VCALENDAR
