BEGIN:VCALENDAR
VERSION:2.0
PRODID:-//casakc.org//NONSGML kigkonsult.se iCalcreator 2.30.10//
CALSCALE:GREGORIAN
METHOD:PUBLISH
UID:2253094d-a990-4960-a224-320f069d5626
X-WR-CALDESC:
X-WR-RELCALID:96eed0cc10707d194ebce641bb7b1b62
X-WR-TIMEZONE:America/Chicago
BEGIN:VTIMEZONE
TZID:America/Chicago
BEGIN:STANDARD
TZNAME:CST
DTSTART:20241103T020000
TZOFFSETFROM:-0500
TZOFFSETTO:-0600
RDATE:20251102T020000
RDATE:20261101T020000
END:STANDARD
BEGIN:DAYLIGHT
TZNAME:CDT
DTSTART:20250309T020000
TZOFFSETFROM:-0600
TZOFFSETTO:-0500
RDATE:20260308T020000
END:DAYLIGHT
END:VTIMEZONE
BEGIN:VEVENT
UID:cfd6443e-d169-4cac-9d6e-7d7af2dc5699
DTSTAMP:20260423T002650Z
DESCRIPTION:
DTSTART;TZID=America/Chicago:20250523T120000
DTEND;TZID=America/Chicago:20250523T130000
LOCATION:
SUMMARY:Board Meeting
END:VEVENT
END:VCALENDAR
