BEGIN:VCALENDAR
VERSION:2.0
PRODID:-//casakc.org//NONSGML kigkonsult.se iCalcreator 2.30.10//
CALSCALE:GREGORIAN
METHOD:PUBLISH
UID:17d9362a-26d1-4a43-8d39-eda3e71b1c84
X-WR-CALDESC:Are you interested in becoming a CASA Volunteer to advocate fo
 r a child or children in the Jackson County Family Court system? To learn 
 about the role and how to become a CASA Volunteer\, visit https://casakc.o
 rg/volunteer/become-a-casa.html.
X-WR-RELCALID:855cdcd9ad4316371b7cea6d06bfee8b
X-WR-TIMEZONE:America/Chicago
BEGIN:VTIMEZONE
TZID:America/Chicago
BEGIN:STANDARD
TZNAME:CST
DTSTART:20241103T020000
TZOFFSETFROM:-0500
TZOFFSETTO:-0600
RDATE:20251102T020000
RDATE:20261101T020000
END:STANDARD
BEGIN:DAYLIGHT
TZNAME:CDT
DTSTART:20250309T020000
TZOFFSETFROM:-0600
TZOFFSETTO:-0500
RDATE:20260308T020000
END:DAYLIGHT
END:VTIMEZONE
BEGIN:VEVENT
UID:f3fe8a0c-31e1-44ec-a6fb-7ce3293515a5
DTSTAMP:20260423T002403Z
DESCRIPTION:Are you interested in becoming a CASA Volunteer to advocate for
  a child or children in the Jackson County Family Court system? To learn a
 bout the role and how to become a CASA Volunteer\, visit https://casakc.or
 g/volunteer/become-a-casa.html.
DTSTART;TZID=America/Chicago:20250527T170000
DTEND;TZID=America/Chicago:20250527T200000
LOCATION:Join virtually on Zoom.
SUMMARY:May Pre-Service Volunteer Training - Session 5
END:VEVENT
END:VCALENDAR
