BEGIN:VCALENDAR
VERSION:2.0
PRODID:-//casakc.org//NONSGML kigkonsult.se iCalcreator 2.30.10//
CALSCALE:GREGORIAN
METHOD:PUBLISH
UID:8d560ff3-a800-4f0d-9d62-bdad2ade4b2c
X-WR-CALDESC:Join us for a 45-minute no-obligation information session at t
 he CASA office (2544 Holmes\, KCMO). During this info session\, you'll lea
 rn about the CASA volunteer role and how you can join our efforts in servi
 ng children in foster care. \n\nTo register for this in-person info sessio
 n\, email Volunteer Services Specialist Kara Strickler at kstrickler@casak
 c.org or click the Register Now button.
X-WR-RELCALID:f469754007025d5ac9b8bf53f54b885e
X-WR-TIMEZONE:America/Chicago
BEGIN:VTIMEZONE
TZID:America/Chicago
BEGIN:STANDARD
TZNAME:CST
DTSTART:20241103T020000
TZOFFSETFROM:-0500
TZOFFSETTO:-0600
RDATE:20251102T020000
RDATE:20261101T020000
END:STANDARD
BEGIN:DAYLIGHT
TZNAME:CDT
DTSTART:20250309T020000
TZOFFSETFROM:-0600
TZOFFSETTO:-0500
RDATE:20260308T020000
END:DAYLIGHT
END:VTIMEZONE
BEGIN:VEVENT
UID:d7c2592b-df29-48dc-8238-9344f060856f
DTSTAMP:20260422T225951Z
DESCRIPTION:Join us for a 45-minute no-obligation information session at th
 e CASA office (2544 Holmes\, KCMO). During this info session\, you'll lear
 n about the CASA volunteer role and how you can join our efforts in servin
 g children in foster care. \n\nTo register for this in-person info session
 \, email Volunteer Services Specialist Kara Strickler at kstrickler@casakc
 .org or click the Register Now button.
DTSTART;TZID=America/Chicago:20250603T120000
DTEND;TZID=America/Chicago:20250603T124500
LOCATION:2544 Holmes\, Kansas City\, AL 64108 US
SUMMARY:In-Person Volunteer Info Session (Copy)
END:VEVENT
END:VCALENDAR
