BEGIN:VCALENDAR
VERSION:2.0
PRODID:-//casakc.org//NONSGML kigkonsult.se iCalcreator 2.30.10//
CALSCALE:GREGORIAN
METHOD:PUBLISH
UID:d11aa890-f8d3-47fd-bc2e-d6205faf6fd5
X-WR-CALDESC:
X-WR-RELCALID:6545325885646ead6e067095a9ca93f6
X-WR-TIMEZONE:America/Chicago
BEGIN:VTIMEZONE
TZID:America/Chicago
BEGIN:STANDARD
TZNAME:CST
DTSTART:20241103T020000
TZOFFSETFROM:-0500
TZOFFSETTO:-0600
RDATE:20251102T020000
RDATE:20261101T020000
END:STANDARD
BEGIN:DAYLIGHT
TZNAME:CDT
DTSTART:20250309T020000
TZOFFSETFROM:-0600
TZOFFSETTO:-0500
RDATE:20260308T020000
END:DAYLIGHT
END:VTIMEZONE
BEGIN:VEVENT
UID:0a3bb83a-d5a3-4682-90d2-e6ff9879ed49
DTSTAMP:20260422T230017Z
DESCRIPTION:
DTSTART;TZID=America/Chicago:20250604T120000
DTEND;TZID=America/Chicago:20250604T130000
LOCATION:2544 Holmes\, Kansas City\, MO 64108 US
SUMMARY:Nuts & Bolts Training: Hearings
END:VEVENT
END:VCALENDAR
