BEGIN:VCALENDAR
VERSION:2.0
PRODID:-//casakc.org//NONSGML kigkonsult.se iCalcreator 2.30.10//
CALSCALE:GREGORIAN
METHOD:PUBLISH
UID:4ff762ce-5105-41b8-86da-757a3f272e97
X-WR-CALDESC:Are you interested in becoming a CASA Volunteer to advocate fo
 r a child or children in the Jackson County Family Court system? To learn 
 about the role and how to become a CASA Volunteer\, visit https://casakc.o
 rg/volunteer/become-a-casa.html.
X-WR-RELCALID:ef23ea59f4717d3f2d192ddaea5f1a5d
X-WR-TIMEZONE:America/Chicago
BEGIN:VTIMEZONE
TZID:America/Chicago
BEGIN:STANDARD
TZNAME:CST
DTSTART:20241103T020000
TZOFFSETFROM:-0500
TZOFFSETTO:-0600
RDATE:20251102T020000
RDATE:20261101T020000
END:STANDARD
BEGIN:DAYLIGHT
TZNAME:CDT
DTSTART:20250309T020000
TZOFFSETFROM:-0600
TZOFFSETTO:-0500
RDATE:20260308T020000
END:DAYLIGHT
END:VTIMEZONE
BEGIN:VEVENT
UID:d3f24edd-a533-438f-b8a4-6fe8b6b7f624
DTSTAMP:20260422T225518Z
DESCRIPTION:Are you interested in becoming a CASA Volunteer to advocate for
  a child or children in the Jackson County Family Court system? To learn a
 bout the role and how to become a CASA Volunteer\, visit https://casakc.or
 g/volunteer/become-a-casa.html.
DTSTART;TZID=America/Chicago:20250613T170000
DTEND;TZID=America/Chicago:20250613T200000
LOCATION:Join virtually on Zoom.
SUMMARY:June Pre-Service Volunteer Training - Session 3
END:VEVENT
END:VCALENDAR
