BEGIN:VCALENDAR
VERSION:2.0
PRODID:-//casakc.org//NONSGML kigkonsult.se iCalcreator 2.30.10//
CALSCALE:GREGORIAN
METHOD:PUBLISH
UID:53f459a3-7f8d-4fd1-bc2d-b3ddd1eaadf4
X-WR-CALDESC:Are you interested in becoming a CASA Volunteer to advocate fo
 r a child or children in the Jackson County Family Court system? To learn 
 about the role and how to become a CASA Volunteer\, visit https://casakc.o
 rg/volunteer/become-a-casa.html.
X-WR-RELCALID:5c13edae75186af9f6ddc73cbcacda8d
X-WR-TIMEZONE:America/Chicago
BEGIN:VTIMEZONE
TZID:America/Chicago
BEGIN:STANDARD
TZNAME:CST
DTSTART:20241103T020000
TZOFFSETFROM:-0500
TZOFFSETTO:-0600
RDATE:20251102T020000
RDATE:20261101T020000
END:STANDARD
BEGIN:DAYLIGHT
TZNAME:CDT
DTSTART:20250309T020000
TZOFFSETFROM:-0600
TZOFFSETTO:-0500
RDATE:20260308T020000
END:DAYLIGHT
END:VTIMEZONE
BEGIN:VEVENT
UID:2c4ed787-63a9-45aa-8a12-a218d2fd14db
DTSTAMP:20260422T230156Z
DESCRIPTION:Are you interested in becoming a CASA Volunteer to advocate for
  a child or children in the Jackson County Family Court system? To learn a
 bout the role and how to become a CASA Volunteer\, visit https://casakc.or
 g/volunteer/become-a-casa.html.
DTSTART;TZID=America/Chicago:20250618T170000
DTEND;TZID=America/Chicago:20250618T200000
LOCATION:Join virtually on Zoom.
SUMMARY:June Pre-Service Volunteer Training - Session 5
END:VEVENT
END:VCALENDAR
